Workbook

Sheet Formularz
A1: Wniosek dot. podnoszenia kwalifikacji zawodowych z inicjatywy pracownika
A2: DANE PRACOWNIKA
A3: Imię | B3: *
A4: Nazwisko | B4: *
A5: Stanowisko | B5: *
A6: Nazwa jednostki | B6: * | D6: Wpisz pełną nazwę jednostki organizacyjnej
A7: Adres e-mail | B7: * | D7: Wpisz adres w domenie @uj.edu.pl
A8: Grupa pracownicza | B8: * | C8: – wybierz – | D8: Wybierz wartość z listy
A10: DANE DOT. KSZTAŁCENIA
A11: Forma kształcenia | B11: * | C11: – wybierz – | D11: Wybierz wartość z listy
A12: Jakie? (gdy "inne formy kształcenia") | B12: =IF($C$11=SLOWNIKI!$C$8,"*","") | D12: Uzupełnij, jeżeli wybrano "inne formy kształcenia"
A13: Nazwa podmiotu realizującego kształcenie | B13: *
A14: Kierunek studiów / przedmiot kursu / szkolenia | B14: *
A15: Czas trwania nauki | B15: *
A16: Data od
A17: Data do
A18: Uwagi dot. terminu
A19: Waluta | B19: * | C19: PLN | D19: Wpisz kod waluty zgodny z normą ISO 4217
A20: Wysokość kosztów | B20: *
A21: Wnioskowana kwota dofinansowania | B21: *
A22: Numer rezerwacji środków w SAP (obligo) | B22: * | D22: Wpisz numer
A23: Uzasadnienie (ocena przydatności w pracy) | B23: *
A25: OŚWIADCZENIE
A26: Oświadczenie | B26: * | C26: Jednocześnie potwierdzam, że zapoznałem/am się z zarządzeniem Rektora UJ w sprawie podnoszenia kwalifikacji zawodowych przez pracowników Uniwersytetu Jagiellońskiego.
C27: – wybierz – | D27: Wybierz wartość z listy

Sheet DANE
A1: Wnioskodawca_Imie | B1: Wnioskodawca_Nazwisko | C1: Wnioskodawca_Stanowisko | D1: Wnioskodawca_Jednostka | E1: Wnioskodawca_Email | F1: Wnioskodawca_GrupaPracownicza | G1: Ksztalcenie_Forma | H1: Ksztalcenie_FormaInna | I1: Ksztalcenie_Podmiot | J1: Ksztalcenie_Kierunek | K1: Ksztalcenie_CzasTrwania | L1: Termin_DataOd | M1: Termin_DataDo | N1: Termin_Uwagi | O1: Koszt_Waluta | P1: Koszt_Kwota | Q1: Dofinansowanie_Kwota | R1: Rezerwacja_SAP_numer | S1: Uzasadnienie | T1: Oswiadczenie_Potwierdzone | U1: Oswiadczenie_Tresc
A2: =Formularz!C3 -> 0 | B2: =Formularz!C4 -> 0 | C2: =Formularz!C5 -> 0 | D2: =Formularz!C6 -> 0 | E2: =Formularz!C7 -> 0 | F2: =Formularz!C8 -> – wybierz – | G2: =Formularz!C11 -> – wybierz – | H2: =Formularz!C12 -> 0 | I2: =Formularz!C13 -> 0 | J2: =Formularz!C14 -> 0 | K2: =Formularz!C15 -> 0 | L2: =Formularz!C16 -> 0 | M2: =Formularz!C17 -> 0 | N2: =Formularz!C18 -> 0 | O2: =Formularz!C19 -> PLN | P2: =Formularz!C20 -> 0 | Q2: =Formularz!C21 -> 0 | R2: =Formularz!C22 -> 0 | S2: =Formularz!C23 -> 0 | T2: =Formularz!C27 -> – wybierz – | U2: =Formularz!C26 -> Jednocześnie potwierdzam, że zapoznałem/am się z zarządzeniem Rektora UJ w sprawie podnoszenia kwalifikacji zawodowych przez pracowników Uniwersytetu Jagiellońskiego.

Sheet SLOWNIKI
A1: Boolean | B1: Grupa pracownicza | C1: Forma kształcenia
A2: – wybierz – | B2: – wybierz – | C2: – wybierz –
A3: Tak | B3: nauczyciel akademicki | C3: studia
A4: Nie | B4: pracownik niebędący nauczycielem akademickim | C4: studia podyplomowe
C5: studia Master of Business Administration (MBA)
C6: kształcenie specjalistyczne
C7: szkolenia i kursy dokształcające (w tym kursy językowe)
C8: inne formy kształcenia

Sheet _meta
A1: Formularz_Kod | B1: cso_podnoszenie_kwalifikacji_pracownik
A2: Formularz_Nazwa | B2: Wniosek dot. podnoszenia kwalifikacji zawodowych z inicjatywy pracownika
A3: Wersja | B3: 1
A4: Data_Publikacji | B4: 46275
A5: Wlasciciel | B5: CSO
A6: Arkusz_Dane | B6: DANE, DANE_Pracownicy
